BEGIN:VCALENDAR
VERSION:2.0
PRODID:-//Dust and Tribe - ECPv6.15.20//NONSGML v1.0//EN
CALSCALE:GREGORIAN
METHOD:PUBLISH
X-WR-CALNAME:Dust and Tribe
X-ORIGINAL-URL:https://dustandtribe.com
X-WR-CALDESC:Events for Dust and Tribe
REFRESH-INTERVAL;VALUE=DURATION:PT1H
X-Robots-Tag:noindex
X-PUBLISHED-TTL:PT1H
BEGIN:VTIMEZONE
TZID:America/Los_Angeles
BEGIN:DAYLIGHT
TZOFFSETFROM:-0800
TZOFFSETTO:-0700
TZNAME:PDT
DTSTART:20190310T100000
END:DAYLIGHT
BEGIN:STANDARD
TZOFFSETFROM:-0700
TZOFFSETTO:-0800
TZNAME:PST
DTSTART:20191103T090000
END:STANDARD
BEGIN:DAYLIGHT
TZOFFSETFROM:-0800
TZOFFSETTO:-0700
TZNAME:PDT
DTSTART:20200308T100000
END:DAYLIGHT
BEGIN:STANDARD
TZOFFSETFROM:-0700
TZOFFSETTO:-0800
TZNAME:PST
DTSTART:20201101T090000
END:STANDARD
BEGIN:DAYLIGHT
TZOFFSETFROM:-0800
TZOFFSETTO:-0700
TZNAME:PDT
DTSTART:20210314T100000
END:DAYLIGHT
BEGIN:STANDARD
TZOFFSETFROM:-0700
TZOFFSETTO:-0800
TZNAME:PST
DTSTART:20211107T090000
END:STANDARD
END:VTIMEZONE
BEGIN:VEVENT
DTSTART;VALUE=DATE:20200222
DTEND;VALUE=DATE:20200225
DTSTAMP:20260424T144817
CREATED:20191019T221114Z
LAST-MODIFIED:20200107T030247Z
UID:10000056-1582329600-1582588799@dustandtribe.com
SUMMARY:D&T Rise: Men in Recovery (Divorce)
DESCRIPTION:a rock-climbing adventure for men affected by divorce \n \n  \nAs men\, we internalize our families. Our wives and children are taken as extensions of ourselves. Caretakers\, providers\, guardians- these are the roles that give our short and brutal lives meaning. \nAnd then one day\, it’s all gone. \nSome of us are lucky. Our splits are amicable- just mature people doing the right thing in acknowledging that marriage is no longer the best way of defining the relationship. We move on with our former spouse\, in a solidarity that honors the value of what was\, but will no longer be. \nThat’s not my story. And I’m hardly alone. \nHorrific stories of unconscionable allegations\, extortionate lawyers\, heartbreak\, and betrayal coupled with financial\, emotional\, and spiritual devastation are too often the case. We are challenged to grieve not only the loss of connection with our partner\, but we are further leveled by separation from our children\, the loss of financial discretion\, and the devastating realization that everything we imagined to have value\, including our dreams\, has been replaced by a vortex of despair. \nBrothers: this too shall pass. And in the process we will learn how wrong we were in our assumptions about marriage and family. \nJoin us for three days in Joshua Tree National Park where we will be joined by a mindfulness coach and rock climbing facilitators who will help to move us back into our hearts and bodies. \nAny and all men affected by divorce are invited. Whether you are considering divorce\, in the process of divorce\, or even remarried after a divorce\, you are welcome. \nThis trip requires that you provide your own food\, clothing\, and sleep kit. As part of the Dust and Tribe experience\, you will be coached and mentored through these logistics. Rental options through non-contracted vendors are available. \nWe’re keeping this intimate with room for only 8 participants. All creeds are welcome. \n\n\nNot ready to sign up? Get on the interest list to stay on top of developments: \n\n\n\n\n\n\nSubscribe\n* indicates required\n\n	Email Address  *\n\n	\n\n\n    Interest List  \n\nD&T Kin (family)\nD&T Rites (father and son)\nD&T X (men only)\nD&T Grind (adult coed)\nD&T Grrrl! (women only)\n\n\n\n\n\n \n     \n\n\n \n\n\n \nQuestions? Send us a message through our Contact Page
URL:https://dustandtribe.com/event/dt-rise-men-in-recovery-divorce/
LOCATION:Jumbo Rocks Campground\, XWRQ+Q2\, Twentynine Palms\, CA\, United States
CATEGORIES:Events
END:VEVENT
END:VCALENDAR