BEGIN:VCALENDAR
VERSION:2.0
PRODID:-//Dust and Tribe - ECPv6.15.20//NONSGML v1.0//EN
CALSCALE:GREGORIAN
METHOD:PUBLISH
X-WR-CALNAME:Dust and Tribe
X-ORIGINAL-URL:https://dustandtribe.com
X-WR-CALDESC:Events for Dust and Tribe
REFRESH-INTERVAL;VALUE=DURATION:PT1H
X-Robots-Tag:noindex
X-PUBLISHED-TTL:PT1H
BEGIN:VTIMEZONE
TZID:America/Los_Angeles
BEGIN:DAYLIGHT
TZOFFSETFROM:-0800
TZOFFSETTO:-0700
TZNAME:PDT
DTSTART:20200308T100000
END:DAYLIGHT
BEGIN:STANDARD
TZOFFSETFROM:-0700
TZOFFSETTO:-0800
TZNAME:PST
DTSTART:20201101T090000
END:STANDARD
BEGIN:DAYLIGHT
TZOFFSETFROM:-0800
TZOFFSETTO:-0700
TZNAME:PDT
DTSTART:20210314T100000
END:DAYLIGHT
BEGIN:STANDARD
TZOFFSETFROM:-0700
TZOFFSETTO:-0800
TZNAME:PST
DTSTART:20211107T090000
END:STANDARD
BEGIN:DAYLIGHT
TZOFFSETFROM:-0800
TZOFFSETTO:-0700
TZNAME:PDT
DTSTART:20220313T100000
END:DAYLIGHT
BEGIN:STANDARD
TZOFFSETFROM:-0700
TZOFFSETTO:-0800
TZNAME:PST
DTSTART:20221106T090000
END:STANDARD
BEGIN:DAYLIGHT
TZOFFSETFROM:-0800
TZOFFSETTO:-0700
TZNAME:PDT
DTSTART:20230312T100000
END:DAYLIGHT
BEGIN:STANDARD
TZOFFSETFROM:-0700
TZOFFSETTO:-0800
TZNAME:PST
DTSTART:20231105T090000
END:STANDARD
END:VTIMEZONE
BEGIN:VEVENT
DTSTART;TZID=America/Los_Angeles:20220910T100000
DTEND;TZID=America/Los_Angeles:20220911T170000
DTSTAMP:20260424T180521
CREATED:20210904T071234Z
LAST-MODIFIED:20220812T143717Z
UID:10000075-1662804000-1662915600@dustandtribe.com
SUMMARY:D&T Lite: Intro to Backpacking (coastal)
DESCRIPTION:Men and women 16+ \nAll creeds welcome. \nThis is an introductory backpacking experience for those of you curious about what it takes to prepare for backcountry adventure! \nWe’ll provide the gear\, food\, and expertise. You will need to provide carrying capacity for a minimum of one gallon of water (bladder\, bottles\, or collapsible jug). \nNo previous backpacking experience or wilderness knowledge is required. We won’t be traveling far: only three miles in and three miles out. \nThat doesn’t mean it will be easy. \nWe’ve got a bit of a climb to get to camp\, but it will be worth it. And we’ll likely forget the pain as we prepare our dinner and watch the sunset from bluffs overlooking Crystal Cove State Park. \nOver the course of the weekend we’ll talk about gear selection\, how to pack for short and long trips\, and general wilderness preparedness. You’ll learn how to set up a tent\, filter water\, and use a camp stove. \nBut that’s not the best part. \nThe best part is the conversations we’ll have\, the primal thrill of sleeping under the stars and\, for those who practice\, the immense reward for prayers offered in the wilderness. \nCOVID-19: We are committed to keeping all participants healthy through smaller groups and the implementation of rigorous medical pre-screening\, including a negative COVID test within the 72 hours prior to our initial gathering day. Once gathered\, social distancing and the wearing of masks will neither be enforced nor discouraged. \nAlternate date: 10/8 \nBook your spot with a 50% deposit ($100) that is fully refundable up to 28 days prior to our trip (refund deadline Saturday 8/13/2022). Refunds will not be offered after the aforementioned date except in cases of a documented or suspected COVID infection within 14 days of our event. \n\n \nSold out? Get on our waitlist through our Contact Page
URL:https://dustandtribe.com/event/dt-lite-intro-to-backpacking-coastal/
LOCATION:Lower Moro Parking Lot\, Crystal Cove State Park\, H56J+XH Laguna Beach\, California\, United States
CATEGORIES:Events
ATTACH;FMTTYPE=image/jpeg:https://dustandtribe.com/wp-content/uploads/2021/09/tristan-pineda-LFGGCsj41Bc-unsplash-e1649918963962.jpg
END:VEVENT
BEGIN:VEVENT
DTSTART;TZID=America/Los_Angeles:20220716T100000
DTEND;TZID=America/Los_Angeles:20220717T170000
DTSTAMP:20260424T180521
CREATED:20220108T052944Z
LAST-MODIFIED:20220414T064940Z
UID:10000082-1657965600-1658077200@dustandtribe.com
SUMMARY:D&T Lite: Intro to Backpacking (coastal)
DESCRIPTION:Men and women 16+ \nAll creeds welcome. \nThis is an introductory backpacking experience for those of you curious about what it takes to prepare for backcountry adventure! \nWe’ll provide the gear\, food\, and expertise. You will need to provide carrying capacity for a minimum of one gallon of water (bladder\, bottles\, or collapsible jug). \nNo previous backpacking experience or wilderness knowledge is required. We won’t be traveling far: only three miles in and three miles out. \nThat doesn’t mean it will be easy. \nWe’ve got a bit of a climb to get to camp\, but it will be worth it. And we’ll likely forget the pain as we prepare our dinner and watch the sunset from bluffs overlooking Crystal Cove State Park. \nOver the course of the weekend we’ll talk about gear selection\, how to pack for short and long trips\, and general wilderness preparedness. You’ll learn how to set up a tent\, filter water\, and use a camp stove. \nBut that’s not the best part. \nThe best part is the conversations we’ll have\, the primal thrill of sleeping under the stars and\, for those who practice\, the immense reward for prayers offered in the wilderness. \nCOVID-19: We are committed to keeping all participants healthy through smaller groups and the implementation of rigorous medical pre-screening\, including a negative COVID test within the 72 hours prior to our initial gathering day. Once gathered\, social distancing and the wearing of masks will neither be enforced nor discouraged. \nThere are only 7 spots available. This event will cancel if fewer than four registered participants by 7/9/2022. \nAlternate dates: 5/14\, 9/10\, 10/8\, and 12/17 \nBook your spot with a 50% deposit ($100) that is fully refundable up to 28 days prior to our trip (refund deadline Saturday 6/18/2022). Refunds will not be offered after the aforementioned date except in cases of a documented or suspected COVID infection within 14 days of our event. \n\n \nQuestions? Send us a message through our Contact Page
URL:https://dustandtribe.com/event/dt-intro-to-backpacking-coastal/
LOCATION:Lower Moro Parking Lot\, Crystal Cove State Park\, H56J+XH Laguna Beach\, California\, United States
CATEGORIES:Events
ATTACH;FMTTYPE=image/jpeg:https://dustandtribe.com/wp-content/uploads/2021/09/tristan-pineda-LFGGCsj41Bc-unsplash-e1649918963962.jpg
END:VEVENT
BEGIN:VEVENT
DTSTART;TZID=America/Los_Angeles:20211009T100000
DTEND;TZID=America/Los_Angeles:20211010T170000
DTSTAMP:20260424T180521
CREATED:20210904T070900Z
LAST-MODIFIED:20210906T003259Z
UID:10000074-1633773600-1633885200@dustandtribe.com
SUMMARY:D&T Lite: Intro to Backpacking 1.0
DESCRIPTION:Men and women 16+ \nAll creeds welcome. \nWe’re very excited to offer a series of introductory backpacking experiences for those of you curious about what it takes to prepare for the backcountry. \nWe’ll provide the gear\, food\, and expertise. You will need to provide carrying capacity for a minimum of one gallon of water (bladder\, bottles\, or collapsible jug). \nNo previous backpacking experience or wilderness knowledge is required. We won’t be traveling far: only three miles in and three miles out. \nThat doesn’t mean it will be easy. \nWe’ve got a bit of a climb to get to camp\, but it will be worth it. And we’ll likely forget the pain as we prepare our dinner and watch the sunset from bluffs overlooking Crystal Cove State Park. \nOver the course of the weekend we’ll talk about gear selection\, how to pack for short and long trips\, and general wilderness preparedness. You’ll learn how to set up a tent\, filter water\, and use a camp stove. \nBut that’s not the best part. \nThe best part is the conversations we’ll have\, the primal thrill of sleeping under the stars and\, for those who practice\, the immense reward for prayers offered in the wilderness. \nCOVID-19: We are committed to keeping all participants healthy through smaller groups and the implementation of rigorous medical pre-screening\, including a negative COVID test within the 72 hours prior to our initial gathering day. Once gathered\, social distancing and the wearing of masks will neither be enforced nor discouraged. \n  \nThere are only seven spots available. \nBook your spot with a 50% deposit ($100) that is fully refundable up to 28 days prior to our trip (refund deadline Tuesday 9/11/2021). Refunds will not be offered after the aforementioned date except in cases of a documented or suspected COVID infection within 14 days of our event. \n\n \n  \nNot ready to camp? Get on the interest list to stay on top of developments: \n\n\n\n\n\n\nSubscribe\n* indicates required\n\n	Email Address  *\n\n	\n\n\n    Interest List  \n\nD&T Kin (family)\nD&T Rites (father and son)\nD&T X (men only)\nD&T Grind (adult coed)\nD&T Grrrl! (women only)\n\n\n\n\n\n \n     \n\n\n \n\n\n \nQuestions? Send us a message through our Contact Page
URL:https://dustandtribe.com/event/dt-lite-intro-to-backpacking/
LOCATION:Lower Moro Parking Lot\, Crystal Cove State Park\, H56J+XH Laguna Beach\, California\, United States
CATEGORIES:Events
END:VEVENT
END:VCALENDAR