BEGIN:VCALENDAR
VERSION:2.0
PRODID:-//Dust and Tribe - ECPv6.15.20//NONSGML v1.0//EN
CALSCALE:GREGORIAN
METHOD:PUBLISH
X-ORIGINAL-URL:https://dustandtribe.com
X-WR-CALDESC:Events for Dust and Tribe
REFRESH-INTERVAL;VALUE=DURATION:PT1H
X-Robots-Tag:noindex
X-PUBLISHED-TTL:PT1H
BEGIN:VTIMEZONE
TZID:America/Los_Angeles
BEGIN:DAYLIGHT
TZOFFSETFROM:-0800
TZOFFSETTO:-0700
TZNAME:PDT
DTSTART:20230312T100000
END:DAYLIGHT
BEGIN:STANDARD
TZOFFSETFROM:-0700
TZOFFSETTO:-0800
TZNAME:PST
DTSTART:20231105T090000
END:STANDARD
BEGIN:DAYLIGHT
TZOFFSETFROM:-0800
TZOFFSETTO:-0700
TZNAME:PDT
DTSTART:20240310T100000
END:DAYLIGHT
BEGIN:STANDARD
TZOFFSETFROM:-0700
TZOFFSETTO:-0800
TZNAME:PST
DTSTART:20241103T090000
END:STANDARD
BEGIN:DAYLIGHT
TZOFFSETFROM:-0800
TZOFFSETTO:-0700
TZNAME:PDT
DTSTART:20250309T100000
END:DAYLIGHT
BEGIN:STANDARD
TZOFFSETFROM:-0700
TZOFFSETTO:-0800
TZNAME:PST
DTSTART:20251102T090000
END:STANDARD
END:VTIMEZONE
BEGIN:VEVENT
DTSTART;TZID=America/Los_Angeles:20241220T100000
DTEND;TZID=America/Los_Angeles:20241220T140000
DTSTAMP:20260424T163537
CREATED:20241210T232140Z
LAST-MODIFIED:20241211T225943Z
UID:10000114-1734688800-1734703200@dustandtribe.com
SUMMARY:D&T Meet: Old Books and Bean Pies
DESCRIPTION:Men and women 16+\nAll creeds welcome \nLet’s make new friends and explore Mid City Los Angeles through Dust and Tribe’s first ever urban meetup! \nWe will start our adventure at Owl Creek Books\, a haven for rare and first edition book lovers. There’s no better way to whet our appetites for local history than with the smell of these musty tomes! \nFrom there\, we make our way to 27th Street Bakery to try some of their bean pies. If there is an original Muslim American food\, it has to be the bean pie\, created by African-American Muslims in the 1930s! The bakery itself has been around since 1956. \nFinally\, we will gather for the Friday congregational prayers at Masjid Bilal Islamic Center\, the first identifiable large mainstream Islamic community in Los Angeles. Before they branched off\, the founders were part of a Nation of Islam temple established by Malcolm X\, may God’s mercy be upon him. If we are lucky\, we might even run into some elders who can tell us a bit of firsthand history. \nCarpooling highly recommended! Parking in Los Angeles can be a problem. \nOld books\, bean pie\, and a farewell prayer at an historic Islamic landmark. Kind of the best Friday ever! \nYour host for this adventure is Makeda \nThere is no fee for this event\, but clicking the registration button will allow us to optimize our hospitality\, insha Allah. \n\n \nQuestions? Drop them in the comments below or send us a message through our Contact page.
URL:https://dustandtribe.com/event/dt-meet-old-books-and-bean-pies/
LOCATION:Owl Creek Books\, 2MWJ+W8\, Los Angeles\, CA\, United States
CATEGORIES:Events,Meetup
ATTACH;FMTTYPE=image/jpeg:https://dustandtribe.com/wp-content/uploads/2024/12/Mid-Citysignage1-scaled.jpg
END:VEVENT
END:VCALENDAR