BEGIN:VCALENDAR
VERSION:2.0
PRODID:-//Dust and Tribe - ECPv6.15.20//NONSGML v1.0//EN
CALSCALE:GREGORIAN
METHOD:PUBLISH
X-WR-CALNAME:Dust and Tribe
X-ORIGINAL-URL:https://dustandtribe.com
X-WR-CALDESC:Events for Dust and Tribe
REFRESH-INTERVAL;VALUE=DURATION:PT1H
X-Robots-Tag:noindex
X-PUBLISHED-TTL:PT1H
BEGIN:VTIMEZONE
TZID:America/Los_Angeles
BEGIN:DAYLIGHT
TZOFFSETFROM:-0800
TZOFFSETTO:-0700
TZNAME:PDT
DTSTART:20240310T100000
END:DAYLIGHT
BEGIN:STANDARD
TZOFFSETFROM:-0700
TZOFFSETTO:-0800
TZNAME:PST
DTSTART:20241103T090000
END:STANDARD
BEGIN:DAYLIGHT
TZOFFSETFROM:-0800
TZOFFSETTO:-0700
TZNAME:PDT
DTSTART:20250309T100000
END:DAYLIGHT
BEGIN:STANDARD
TZOFFSETFROM:-0700
TZOFFSETTO:-0800
TZNAME:PST
DTSTART:20251102T090000
END:STANDARD
BEGIN:DAYLIGHT
TZOFFSETFROM:-0800
TZOFFSETTO:-0700
TZNAME:PDT
DTSTART:20260308T100000
END:DAYLIGHT
BEGIN:STANDARD
TZOFFSETFROM:-0700
TZOFFSETTO:-0800
TZNAME:PST
DTSTART:20261101T090000
END:STANDARD
END:VTIMEZONE
BEGIN:VEVENT
DTSTART;VALUE=DATE:20251011
DTEND;VALUE=DATE:20251013
DTSTAMP:20260424T180402
CREATED:20250903T042001Z
LAST-MODIFIED:20250926T154357Z
UID:10000129-1760140800-1760313599@dustandtribe.com
SUMMARY:D&T Gents: Sierra Backcountry Fishing with Goats
DESCRIPTION:Men 13+ (minors must be accompanied by parent) \nAll creeds welcome \nParticipant Min/Max: 4/7 \nDon’t pretend like fishing in the Sierra Nevada backcountry with goats isn’t the greatest thing you’ve never done! \nThis is male-bonding at its wildest. \nTom Hilton took that picture and it’s a pretty good representation of the subalpine environs of the Mokelumne Wilderness. \nWe can’t guarantee anything\, but we’re hoping to find some holdover trout in the little sapphire lakes dotting this trail. Whatever happens\, it’ll be fun looking for them! \nIf it’s not obvious\, this trip is for men only and is best suited for those with backpacking experience. Of course\, there’s nothing here that can’t be accomplished with some determination\, but we’ve got over 17 miles out-and-back at elevation. As long as you know what you’re getting into\, you’re welcome to come along. \nThis is an overnight adventure\, and shorter days means that time is not on our side. Unless we want to push our hiking into the night\, we’ll need a real early start both mornings. But that’s what fisherman do! \nWe want to hit as many of the lakes as we can with our pack-rods\, God willing. Make sure your fishing license is up to date. We’ll handle all the terminal tackle (weights\, floats\, leaders\, lures)\, but you’ll need to bring your own rod\, reel\, and line. \nWe’re bringing six of our growing Alpine goats. They’ll carry everything we need to cook whatever God allows us to catch\, insha Allah. \nAnd to make the trip easier on those coming from a distance\, we are including a free airport shuttle and overnight stay Friday October 10th at D&T Camp One in Placerville\, about 1.5 hours from the trailhead. \nIncluded: \n\nOvernight accommodations and meal at Dust and Tribe Camp One (optional)\nFree airport shuttle\nOne night of camping\nAll necessary terminal tackle\nPoint-by-point itinerary\, packing list\, and personalized assistance with logistics\nCommemorative D&T keepsake to honor our time together\nGOATS!!!\nNew friends and a lifetime of memories!\n\nYou are responsible for your food\, transportation\, clothing\, and gear (limited rentals are available). \nThis event will cancel if fewer than four registered participants by 10/3. \nInclement weather will not be grounds for either cancellation or refund except in cases of extreme severity. \nBook your spot with a $200 deposit that is refundable up to 21 days prior to our trip (refund deadline Saturday 9/20/2025). \n\n \nDon’t want to hassle with food? We’re happy to put together a 2000 calorie/day vegetarian meal bundle to get you through the weekend. The bundle includes pasta and quinoa-based entrees\, oatmeal\, granola\, and lots of chocolate\, nut-butters\, and fat-rich coconut strips to fuel your adventure. \n\n\n  \nNo money\, no problem. Learn about no-cost participation through our Standby Program. \nQuestions? Drop them in the comments below or send us a message through our Contact Page
URL:https://dustandtribe.com/event/dt-gents-sierra-backcountry-fishing-with-goats/
LOCATION:PCT- Blue Lakes Trailhead\, J3FR+WG\, Markleeville\, CA
CATEGORIES:Backpacking,Events,Fishing,Goatpacking,Men
ATTACH;FMTTYPE=image/jpeg:https://dustandtribe.com/wp-content/uploads/2025/09/Deadwood_Peak_Upper_Blue_Lake-scaled.jpg
END:VEVENT
BEGIN:VEVENT
DTSTART;VALUE=DATE:20250920
DTEND;VALUE=DATE:20250922
DTSTAMP:20260424T180402
CREATED:20250902T034505Z
LAST-MODIFIED:20250917T134306Z
UID:10000127-1758326400-1758499199@dustandtribe.com
SUMMARY:D&T Gents: Intro to Backpacking w/Goats
DESCRIPTION:Men 18+ \nAll creeds welcome \nParticipant Min/Max: 4/7 \nYou see that picture above? \nThat came off our personal camera roll. And that’s where we’re going because the subalpine environs just outside the Mokelumne Wilderness are the perfect setting for an introduction to backpacking. \nIf you’ve never been backpacking before\, this is the trip for you. \nAfter years of being told that we make things too hard on people new to backpacking\, we finally listened. We trekked far and wide to find this incredibly relaxing trail. It’s a super easy hike with very little elevation gain\, allowing you to just slip into the beauty of the place without the pain and frustration of your Dust and Tribe predecessors. God bless them. \nThis trip is for men only. You work hard. You could use a break. And just to make it even more fun\, we’re bringing six of our growing Alpine goats! \nThese are our most affectionate and personable little goats\, handpicked from the D&T Camp One herd. They will leave quite the impression\, God willing\, and they absolutely love this trail! \nThis is an out-and-back route that will have us at our campsite in under four miles\, God willing. \nWe’ll be camping alongside some of the prettiest little lakes you ever will see. And don’t worry. Even with this being an overnight trip\, we’ll have plenty of time to take in the radiant sunshine\, clean air\, and cool water. With goats! \nAnd to make the trip even easier for those coming from a distance\, we are including a free airport shuttle and overnight stay Friday September 19th at D&T Camp One in Placerville\, about 1.5 hours from the trailhead. \nIncluded: \n\nOvernight accommodations and meal at Dust and Tribe Camp One (optional)\nFree airport shuttle\nOne night of camping\nPoint-by-point itinerary\, packing list\, and personalized assistance with logistics\nCommemorative D&T keepsake to honor our time together\nBABY GOATS!!!\nNew friends and a lifetime of memories!\n\nYou are responsible for your food\, transportation\, clothing\, and gear (limited rentals are available). \nThis event will cancel if fewer than four registered participants by 9/16. \nInclement weather will not be grounds for either cancellation or refund except in cases of extreme severity. \nDue to the short lead time for this adventure\, your $260 booking fee is non-refundable. Please think before you click! \n\n \nDon’t want to hassle with food? We’re happy to put together a 2000 calorie/day vegetarian meal bundle to get you through the weekend. The bundle includes pasta and quinoa-based entrees\, oatmeal\, granola\, and lots of chocolate\, nut-butters\, and fat-rich coconut strips to fuel your adventure. \n\n\n  \nNo money\, no problem. Learn about no-cost participation through our Standby Program. \nQuestions? Drop them in the comments below or send us a message through our Contact Page
URL:https://dustandtribe.com/event/dt-gents-intro-to-backpacking-w-goats/
LOCATION:PCT- Blue Lakes Trailhead\, J3FR+WG\, Markleeville\, CA
CATEGORIES:Backpacking,Events,Goatpacking,Men
ATTACH;FMTTYPE=image/png:https://dustandtribe.com/wp-content/uploads/2025/09/Sunset-Lakes.png
END:VEVENT
END:VCALENDAR