BEGIN:VCALENDAR
VERSION:2.0
PRODID:-//Dust and Tribe - ECPv6.15.20//NONSGML v1.0//EN
CALSCALE:GREGORIAN
METHOD:PUBLISH
X-WR-CALNAME:Dust and Tribe
X-ORIGINAL-URL:https://dustandtribe.com
X-WR-CALDESC:Events for Dust and Tribe
REFRESH-INTERVAL;VALUE=DURATION:PT1H
X-Robots-Tag:noindex
X-PUBLISHED-TTL:PT1H
BEGIN:VTIMEZONE
TZID:America/Los_Angeles
BEGIN:DAYLIGHT
TZOFFSETFROM:-0800
TZOFFSETTO:-0700
TZNAME:PDT
DTSTART:20240310T100000
END:DAYLIGHT
BEGIN:STANDARD
TZOFFSETFROM:-0700
TZOFFSETTO:-0800
TZNAME:PST
DTSTART:20241103T090000
END:STANDARD
BEGIN:DAYLIGHT
TZOFFSETFROM:-0800
TZOFFSETTO:-0700
TZNAME:PDT
DTSTART:20250309T100000
END:DAYLIGHT
BEGIN:STANDARD
TZOFFSETFROM:-0700
TZOFFSETTO:-0800
TZNAME:PST
DTSTART:20251102T090000
END:STANDARD
BEGIN:DAYLIGHT
TZOFFSETFROM:-0800
TZOFFSETTO:-0700
TZNAME:PDT
DTSTART:20260308T100000
END:DAYLIGHT
BEGIN:STANDARD
TZOFFSETFROM:-0700
TZOFFSETTO:-0800
TZNAME:PST
DTSTART:20261101T090000
END:STANDARD
END:VTIMEZONE
BEGIN:VEVENT
DTSTART;VALUE=DATE:20250425
DTEND;VALUE=DATE:20250428
DTSTAMP:20260424T205739
CREATED:20250207T215407Z
LAST-MODIFIED:20250520T190054Z
UID:10000119-1745539200-1745798399@dustandtribe.com
SUMMARY:D&T Grrrl! Lighthouse Catch-and-Cook Fishing Adventure
DESCRIPTION:Women 18+\nAll creeds welcome\nAdventure Score: 1 \nFeeling nautical? \nWe hope so! \nWe’ve lined up a stay at the Point Montara Lighthouse\, an historic landmark mere minutes from gorgeous Half Moon Bay. An absolutely inspiring location from which to explore nearby towns\, be prepared for some of the best sunsets you’ve ever seen. And the best part is we’ve got the whole place to ourselves! \nOkay. Maybe that’s not the best part. \nMaybe the best part is falling asleep to the sound of crashing waves just outside? Or maybe it will be the camaraderie of other incredible women? \nOr maybe the best part is grabbing your poke pole and heading out to Half Moon Bay in search of monkeyface eels. That’s exactly what we’re going to do on our first afternoon together. We’ll have everything you need and we’ll walk you through just exactly where and how to nab your first fish. After that\, it’s up to you! \nBack at our lighthouse\, we’ll clean and cook our catch\, God Willing\, swapping stories about all the lunkers that got away. \nWe’ll have plenty of time for both urban and coastal exploration and we plan on doing lots of both\, insha Allah. \nBook your spot with a $215 deposit that is refundable up to 30 days prior to our adventure (refund deadline Wednesday 3/26/2025). \nIncluded: \n\nTwo nights of accommodations at the Point Montara Lighthouse\nFour hosted halal meals (dinner and breakfast x2)\nMentored poke poling at Half Moon Bay\nHands-on instruction on cleaning and cooking your catch\nPoint-by-point itinerary\, packing list\, and personalized assistance with logistics\nKeepsakes to honor our time together\nNew friends and a lifetime of memories!\n\n\n\n \nQuestions? Drop them in the comments below or send us a message through our Contact page.
URL:https://dustandtribe.com/event/dt-grrrl-lighthouse-catch-and-cook-fishing-adventure/
LOCATION:Point Montara Lighthouse\, GFPJ+H7\, Montara\, CA\, United States
CATEGORIES:Events,Fishing,Women
ATTACH;FMTTYPE=image/jpeg:https://dustandtribe.com/wp-content/uploads/2025/02/Lighthouse_California_17271661722.jpg
END:VEVENT
END:VCALENDAR