BEGIN:VCALENDAR
VERSION:2.0
PRODID:-//Dust and Tribe - ECPv6.15.20//NONSGML v1.0//EN
CALSCALE:GREGORIAN
METHOD:PUBLISH
X-WR-CALNAME:Dust and Tribe
X-ORIGINAL-URL:https://dustandtribe.com
X-WR-CALDESC:Events for Dust and Tribe
REFRESH-INTERVAL;VALUE=DURATION:PT1H
X-Robots-Tag:noindex
X-PUBLISHED-TTL:PT1H
BEGIN:VTIMEZONE
TZID:America/Los_Angeles
BEGIN:DAYLIGHT
TZOFFSETFROM:-0800
TZOFFSETTO:-0700
TZNAME:PDT
DTSTART:20210314T100000
END:DAYLIGHT
BEGIN:STANDARD
TZOFFSETFROM:-0700
TZOFFSETTO:-0800
TZNAME:PST
DTSTART:20211107T090000
END:STANDARD
BEGIN:DAYLIGHT
TZOFFSETFROM:-0800
TZOFFSETTO:-0700
TZNAME:PDT
DTSTART:20220313T100000
END:DAYLIGHT
BEGIN:STANDARD
TZOFFSETFROM:-0700
TZOFFSETTO:-0800
TZNAME:PST
DTSTART:20221106T090000
END:STANDARD
BEGIN:DAYLIGHT
TZOFFSETFROM:-0800
TZOFFSETTO:-0700
TZNAME:PDT
DTSTART:20230312T100000
END:DAYLIGHT
BEGIN:STANDARD
TZOFFSETFROM:-0700
TZOFFSETTO:-0800
TZNAME:PST
DTSTART:20231105T090000
END:STANDARD
BEGIN:DAYLIGHT
TZOFFSETFROM:-0800
TZOFFSETTO:-0700
TZNAME:PDT
DTSTART:20240310T100000
END:DAYLIGHT
BEGIN:STANDARD
TZOFFSETFROM:-0700
TZOFFSETTO:-0800
TZNAME:PST
DTSTART:20241103T090000
END:STANDARD
BEGIN:DAYLIGHT
TZOFFSETFROM:-0800
TZOFFSETTO:-0700
TZNAME:PDT
DTSTART:20250309T100000
END:DAYLIGHT
BEGIN:STANDARD
TZOFFSETFROM:-0700
TZOFFSETTO:-0800
TZNAME:PST
DTSTART:20251102T090000
END:STANDARD
END:VTIMEZONE
BEGIN:VEVENT
DTSTART;VALUE=DATE:20240914
DTEND;VALUE=DATE:20240917
DTSTAMP:20260424T163342
CREATED:20240525T230007Z
LAST-MODIFIED:20240901T222151Z
UID:10000108-1726272000-1726531199@dustandtribe.com
SUMMARY:D&T Grom: Surf Camp w/Kooks and Kahunas
DESCRIPTION:Men 16+ \nAll creeds welcome \nAdventure Score: 2 \nJoin us for our annual surf camp! \nDust and Tribe started in California. Many of us have lived our whole lives with the Pacific Ocean as our playground. But we’ve spent a lifetime on the sand. \nWe’re going to change that with the help of Kooks and Kahunas\, our local Muslim surf club. These aren’t just guys chasing waves. They are a committed group of spiritual seekers who understand that\, for all of the ocean’s power and immensity\, each wave that rolls in might hold the ride of a lifetime for exactly one person. \nThe universe is a big place. But you’re in it and there’s a reason. And sometimes you just need to suit up and float in the darkness for awhile before any of it makes sense. \nThere’s a whole lot more to surfing than surfing\, bro. \nSaturday is our first day at surf camp. We’ll get ourselves sorted and learn about one another over dinner. After a night’s rest\, we’ll have breakfast\, handle our predawn prayers\, and hit the beach for some safety instruction and basic preliminaries including board selection\, waxing\, and where to attach that pesky leg leash (hint: your leg). Then it’s into the water where we learn to find the “sweet spot” for our paddle-out and some practice belly-boarding in. You’ll be paired with a mentor who\, although not a formal instructor\, is passionate about surfing and invested in sharing that love with you. \nFrom there it’s back to the sand where we’ll practice our pop-ups until we’re feeling confident enough to try standing in the water. \nWe’ll have two nights and two days on the beach. After the first morning\, the rest of our time together is about practice and the camaraderie that comes out of learning together. \nBest case scenario\, we show up kooks and come home kahunas. Our surf camp is very beginner friendly! \nBut don’t count on it. Better to focus on the good times we’ll have. With God’s help and permission\, we can pretty well guarantee that. \nIncluded: \n\nTwo nights of camping at San Mateo Campground\nSurfboard and wetsuit\nSurf mentoring by the Kooks and Kahunas Muslim Surf Club\nBreakfast\, dinner\, and light refreshments (you’re on your own for lunch)\nPoint-by-point itinerary\, packing list\, and personalized assistance with logistics\nCommemorative D&T keepsake to honor our time together\nNew friends and a lifetime of memories!\n\nYou are responsible for your transportation\, clothing\, and gear (limited rentals are available). \n Those with their own board and wetsuit will receive an $80 discount upon balance fulfillment. \nBook your spot with a 50% deposit ($190) that is fully refundable up to 60 days prior to our trip (refund deadline Monday 7/16/2024). Refunds will not be offered after the aforementioned date except in cases of a documented or suspected COVID infection within 14 days of our event. \nSOLD OUT.\nPlease reach out through our Contact Page to be added to our waitlist. \n\n \nQuestions? Post them in the comments below or reach out through our Contact Page
URL:https://dustandtribe.com/event/grom2024/
LOCATION:San Onofre\, CC48+25 San Clemente\, CA\, United States
CATEGORIES:Events
ATTACH;FMTTYPE=image/jpeg:https://dustandtribe.com/wp-content/uploads/2023/08/arnaud-mesureur-17OxKyThYPo-unsplash-2-e1716676901369.jpg
END:VEVENT
BEGIN:VEVENT
DTSTART;VALUE=DATE:20230915
DTEND;VALUE=DATE:20230918
DTSTAMP:20260424T163342
CREATED:20230419T151357Z
LAST-MODIFIED:20230905T025405Z
UID:10000097-1694736000-1694995199@dustandtribe.com
SUMMARY:D&T Grom: Surf Camp w/Kooks and Kahunas
DESCRIPTION:Men 16+ \nAll creeds welcome \nAdventure Score: 1 \nDust and Tribe started in California. Many of us have lived our whole lives with the Pacific Ocean as our playground. But we’ve spent a lifetime on the sand. \nWe’re going to change that with the help of Kooks and Kahunas\, our local Muslim surf club. These aren’t just guys chasing waves. They are a committed group of spiritual seekers who understand that\, for all of the ocean’s power and immensity\, each wave that rolls in might hold the ride of a lifetime for exactly one person. \nThe universe is a big place. But you’re in it and there’s a reason. And sometimes you just need to suit up and float in the darkness for awhile before any of it makes sense. \nThere’s a whole lot more to surfing than surfing\, bro. \nFriday is our gathering day. We’ll get our beach camp sorted and learn about one another over dinner. After a night’s rest\, we’ll have breakfast\, handle our predawn prayers\, and hit the beach for some safety instruction and basic preliminaries including board selection\, waxing\, and where to attach that pesky leg leash (hint: your leg). Then it’s into the water where we learn to find the “sweet spot” for our paddle-out and some practice belly-boarding in. You’ll be paired with a mentor who\, although not a formal instructor\, is passionate about surfing and invested in sharing that love with you. \nFrom there it’s back to the sand where we’ll practice our pop-ups until we’re feeling confident enough to try standing in the water. \nWe’ll have two nights and two days on the beach. After the first morning\, the rest of our time together is about practice and the camaraderie that comes out of learning together. \nBest case scenario\, we show up kooks and come home kahunas. \nBut don’t count on it. Better to focus on the good times we’ll have. With God’s help and permission\, we can pretty well guarantee that. \nIncluded: \n\nTwo nights of camping at San Mateo Campground\nSurfboard and wetsuit\nSurf mentoring by the Kooks and Kahunas Muslim Surf Club\nBreakfast\, dinner\, and light refreshments (you’re on your own for lunch)\nPoint-by-point itinerary\, packing list\, and personalized assistance with logistics\nCommemorative D&T keepsake to honor our time together\nNew friends and a lifetime of memories!\n\nYou are responsible for your transportation\, clothing\, and gear (limited rentals are available). \n Those with their own board and wetsuit will receive an $80 discount upon balance fulfillment. \nCOVID-19: We are committed to keeping all participants healthy through smaller groups and the implementation of rigorous medical pre-screening. Once gathered\, social distancing and the wearing of masks will neither be enforced nor discouraged. \nBook your spot with a 50% deposit ($180) that is fully refundable up to 60 days prior to our trip (refund deadline Monday 7/17/2023). Refunds will not be offered after the aforementioned date except in cases of a documented or suspected COVID infection within 14 days of our event. \n\n \nQuestions? Post them in the comments below or reach out through our Contact Page
URL:https://dustandtribe.com/event/dt-grom-surf-camp-w-kooks-and-kahunas-2/
LOCATION:San Onofre\, CC48+25 San Clemente\, CA\, United States
CATEGORIES:Events
ATTACH;FMTTYPE=image/jpeg:https://dustandtribe.com/wp-content/uploads/2020/12/arnaud-mesureur-17OxKyThYPo-unsplash-1-e1649919165434.jpg
END:VEVENT
BEGIN:VEVENT
DTSTART;VALUE=DATE:20220916
DTEND;VALUE=DATE:20220919
DTSTAMP:20260424T163342
CREATED:20201225T053013Z
LAST-MODIFIED:20220812T143413Z
UID:10000064-1663286400-1663545599@dustandtribe.com
SUMMARY:D&T Grom: Surf Camp w/Kooks and Kahunas
DESCRIPTION:Men 16+ \nAll creeds welcome \nAdventure Score: 1 \nDust and Tribe started in California. Many of us have lived our whole lives with the Pacific Ocean as our playground. But we’ve spent a lifetime on the sand. \nWe’re going to change that with the help of Kooks and Kahunas\, our local Muslim surf club. These aren’t just guys chasing waves. They are a committed group of spiritual seekers who understand that\, for all of the ocean’s power and immensity\, each wave that rolls in might hold the ride of a lifetime for exactly one person. \nThe universe is a big place. But you’re in it and there’s a reason. And sometimes you just need to suit up and float in the darkness for awhile before any of it makes sense. \nThere’s a whole lot more to surfing than surfing\, bro. \nFriday is our gathering day. We’ll get our beach camp sorted and learn about one another over dinner. After a night’s rest\, we’ll have breakfast\, handle our predawn prayers\, and hit the beach for some safety instruction and basic preliminaries including board selection\, waxing\, and where to attach that pesky leg leash (hint: your leg). Then it’s into the water where we learn to find the “sweet spot” for our paddle-out and some practice belly-boarding in. You’ll be paired with a mentor who\, although not a formal instructor\, is passionate about surfing and invested in sharing that love with you. \nFrom there it’s back to the sand where we’ll practice our pop-ups until we’re feeling confident enough to try standing in the water. \nWe’ll have two nights and two days on the beach. After the first morning\, the rest of our time together is about practice and the camaraderie that comes out of learning together. \nBest case scenario\, we show up kooks and come home kahunas. \nBut don’t count on it. Better to focus on the good times we’ll have. With God’s help and permission\, we can pretty well guarantee that. \nSurfboard\, wetsuit\, and camping fees included with registration. Those with their own board and wetsuit will receive an $80 discount upon balance fulfillment. \nAll meals provided. \nBring your own camping gear or rent from us. \nCOVID-19: We are committed to keeping all participants healthy through smaller groups and the implementation of rigorous medical pre-screening. Once gathered\, social distancing and the wearing of masks will neither be enforced nor discouraged. \nBook your spot with a 50% deposit ($150) that is fully refundable up to 60 days prior to our trip (refund deadline Monday 7/18/2022). Refunds will not be offered after the aforementioned date except in cases of a documented or suspected COVID infection within 14 days of our event. \n\n \nSold out? Get on the waitlist through our Contact Page
URL:https://dustandtribe.com/event/dt-grom-surf-camp-w-kooks-and-kahunas/
LOCATION:San Onofre\, CC48+25 San Clemente\, CA\, United States
CATEGORIES:Events
ATTACH;FMTTYPE=image/jpeg:https://dustandtribe.com/wp-content/uploads/2020/12/arnaud-mesureur-17OxKyThYPo-unsplash-1-e1649919165434.jpg
END:VEVENT
END:VCALENDAR