BEGIN:VCALENDAR
VERSION:2.0
PRODID:-//Dust and Tribe - ECPv6.15.20//NONSGML v1.0//EN
CALSCALE:GREGORIAN
METHOD:PUBLISH
X-ORIGINAL-URL:https://dustandtribe.com
X-WR-CALDESC:Events for Dust and Tribe
REFRESH-INTERVAL;VALUE=DURATION:PT1H
X-Robots-Tag:noindex
X-PUBLISHED-TTL:PT1H
BEGIN:VTIMEZONE
TZID:America/Los_Angeles
BEGIN:DAYLIGHT
TZOFFSETFROM:-0800
TZOFFSETTO:-0700
TZNAME:PDT
DTSTART:20200308T100000
END:DAYLIGHT
BEGIN:STANDARD
TZOFFSETFROM:-0700
TZOFFSETTO:-0800
TZNAME:PST
DTSTART:20201101T090000
END:STANDARD
BEGIN:DAYLIGHT
TZOFFSETFROM:-0800
TZOFFSETTO:-0700
TZNAME:PDT
DTSTART:20210314T100000
END:DAYLIGHT
BEGIN:STANDARD
TZOFFSETFROM:-0700
TZOFFSETTO:-0800
TZNAME:PST
DTSTART:20211107T090000
END:STANDARD
BEGIN:DAYLIGHT
TZOFFSETFROM:-0800
TZOFFSETTO:-0700
TZNAME:PDT
DTSTART:20220313T100000
END:DAYLIGHT
BEGIN:STANDARD
TZOFFSETFROM:-0700
TZOFFSETTO:-0800
TZNAME:PST
DTSTART:20221106T090000
END:STANDARD
END:VTIMEZONE
BEGIN:VEVENT
DTSTART;VALUE=DATE:20210718
DTEND;VALUE=DATE:20210724
DTSTAMP:20260424T144914
CREATED:20201226T080730Z
LAST-MODIFIED:20210905T033837Z
UID:10000065-1626566400-1627084799@dustandtribe.com
SUMMARY:D&T Kin '21: GAZA Summer
DESCRIPTION:All ages. \nAll creeds welcome. \n100% of all proceeds from this event will fund humanitarian aid for our besieged Palestinian brothers and sisters. That’s 100% of proceeds\, not profits! We’re giving it ALL away! \nFor Muslims\, there is no greater holiday than Eid al-Adha\, the Festival of Sacrifice. We want to celebrate with you and we’re taking this party on the road! \nWe’ve pulled out all the stops for our first-ever East Coast family caravan. God willing\, we’ll be traveling all 469 miles of the fabled two-lane Blue Ridge Parkway on a journey that will take us from the Smoky Mountains in North Carolina right up to the edge of Shenandoah National Park in Virginia. \nBut that’s not all. We’ll be camping the whole way\, with five overnight stays that feature nearby access to hiking trails\, waterfalls\, creeks\, lakes\, and lots of quaint mountain towns exuding classic Americana. \nWe’ve taken care of the itinerary and all necessary bookings so that you don’t have to. This is our opportunity to travel in community and build bonds between families through a truly remarkable adventure experience! \nAnd we’ve even got bonus options for those with a hankering for still more adventure and culture! Zip-lining\, a mile-high swinging pedestrian bridge\, and a full day spent at FloydFest\, Virginia’s signature world-music festival\, are on the menu if you are willing to partake (please note- though we’ll be happy to guide you\, these bonus options involve separate fees and bookings through independent vendors). \nWe can’t wait to meet you and we look forward to making lots of new friends along the way\, God willing. \nMake this a most memorable Eid al-Adha for you and your family and don’t miss our Gypsy Summer! \nPlease note: Participants are responsible for their own transportation\, camping gear\, and food. \nCOVID-19: We are committed to keeping all participants healthy through smaller groups and the implementation of rigorous medical pre-screening. Once gathered\, social distancing and the wearing of masks will neither be enforced nor discouraged. \n  \nYour non-refundable deposit of 50% secures a spot for you or your immediate family. \n\n \n\n \n  \nAdventure Score: 1 \nNot ready to sign-up? Get on the interest list to stay on top of developments: \n\n\n\n\n\n\nSubscribe\n* indicates required\n\n	Email Address  *\n\n	\n\n\n    Interest List  \n\nD&T Kin (family)\nD&T Rites (father and son)\nD&T X (men only)\nD&T Grind (adult coed)\nD&T Grrrl! (women only)\n\n\n\n\n\n \n     \n\n\n \n\n\n \nQuestions? Send us a message through our Contact Page
URL:https://dustandtribe.com/event/dt-kin-21-gypsy-summer/
LOCATION:Smokemont Campground\, HM4Q+99 Cherokee\, NC\, United States
CATEGORIES:Events
END:VEVENT
END:VCALENDAR